BEGIN:VCALENDAR
VERSION:2.0
PRODID:-//Workforce Solutions Coastal Bend - ECPv6.15.16//NONSGML v1.0//EN
CALSCALE:GREGORIAN
METHOD:PUBLISH
X-ORIGINAL-URL:https://www.workforcesolutionscb.org
X-WR-CALDESC:Events for Workforce Solutions Coastal Bend
REFRESH-INTERVAL;VALUE=DURATION:PT1H
X-Robots-Tag:noindex
X-PUBLISHED-TTL:PT1H
BEGIN:VTIMEZONE
TZID:America/Chicago
BEGIN:DAYLIGHT
TZOFFSETFROM:-0600
TZOFFSETTO:-0500
TZNAME:CDT
DTSTART:20240310T080000
END:DAYLIGHT
BEGIN:STANDARD
TZOFFSETFROM:-0500
TZOFFSETTO:-0600
TZNAME:CST
DTSTART:20241103T070000
END:STANDARD
BEGIN:DAYLIGHT
TZOFFSETFROM:-0600
TZOFFSETTO:-0500
TZNAME:CDT
DTSTART:20250309T080000
END:DAYLIGHT
BEGIN:STANDARD
TZOFFSETFROM:-0500
TZOFFSETTO:-0600
TZNAME:CST
DTSTART:20251102T070000
END:STANDARD
BEGIN:DAYLIGHT
TZOFFSETFROM:-0600
TZOFFSETTO:-0500
TZNAME:CDT
DTSTART:20260308T080000
END:DAYLIGHT
BEGIN:STANDARD
TZOFFSETFROM:-0500
TZOFFSETTO:-0600
TZNAME:CST
DTSTART:20261101T070000
END:STANDARD
END:VTIMEZONE
BEGIN:VEVENT
DTSTART;TZID=America/Chicago:20250207T090000
DTEND;TZID=America/Chicago:20250207T140000
DTSTAMP:20260420T064253
CREATED:20250121T201341Z
LAST-MODIFIED:20250121T201423Z
UID:34790-1738918800-1738936800@www.workforcesolutionscb.org
SUMMARY:Battle & Sands Hiring Event
DESCRIPTION:About This Event\n\n\n\n\n\nThis is an In-Person Hiring Event located at: \n\n\n\n\n\nHiring for the following positions \n\n\n\n\n I&E Technician\n\n Job Number: 16809837\n\n\n\n$27.00-$35.00\n\n\n\n6 openings\n\n\n\n\n\nLoad Out Operator\n\nJob Number: 16809833\n\n\n\n$20.00-$22.00\n\n\n\n9 Openings\n\n\n\n\n\n\nEvent Registration\n\n\n\n\nEnsure Your Resume is Up-To-Date\n\n\n\nBe prepared to Interview\n\n\n\nUse the Job Number to search on WorkInTexas.com
URL:https://www.workforcesolutionscb.org/event/battle-and-sands-hiring-event-2/
LOCATION:Bee Area Partnership\, 120 N. Washington St\, Beeville\, TX\, 78102\, United States
ATTACH;FMTTYPE=image/jpeg:https://www.workforcesolutionscb.org/wp-content/uploads/2025/01/Battle-and-Sands-Event-Flyer-25-scaled.jpg
END:VEVENT
END:VCALENDAR