BEGIN:VCALENDAR
VERSION:2.0
PRODID:-//Workforce Solutions Coastal Bend - ECPv6.15.16//NONSGML v1.0//EN
CALSCALE:GREGORIAN
METHOD:PUBLISH
X-WR-CALNAME:Workforce Solutions Coastal Bend
X-ORIGINAL-URL:https://www.workforcesolutionscb.org
X-WR-CALDESC:Events for Workforce Solutions Coastal Bend
REFRESH-INTERVAL;VALUE=DURATION:PT1H
X-Robots-Tag:noindex
X-PUBLISHED-TTL:PT1H
BEGIN:VTIMEZONE
TZID:America/Chicago
BEGIN:DAYLIGHT
TZOFFSETFROM:-0600
TZOFFSETTO:-0500
TZNAME:CDT
DTSTART:20230312T080000
END:DAYLIGHT
BEGIN:STANDARD
TZOFFSETFROM:-0500
TZOFFSETTO:-0600
TZNAME:CST
DTSTART:20231105T070000
END:STANDARD
BEGIN:DAYLIGHT
TZOFFSETFROM:-0600
TZOFFSETTO:-0500
TZNAME:CDT
DTSTART:20240310T080000
END:DAYLIGHT
BEGIN:STANDARD
TZOFFSETFROM:-0500
TZOFFSETTO:-0600
TZNAME:CST
DTSTART:20241103T070000
END:STANDARD
BEGIN:DAYLIGHT
TZOFFSETFROM:-0600
TZOFFSETTO:-0500
TZNAME:CDT
DTSTART:20250309T080000
END:DAYLIGHT
BEGIN:STANDARD
TZOFFSETFROM:-0500
TZOFFSETTO:-0600
TZNAME:CST
DTSTART:20251102T070000
END:STANDARD
END:VTIMEZONE
BEGIN:VEVENT
DTSTART;TZID=America/Chicago:20240306T090000
DTEND;TZID=America/Chicago:20240306T150000
DTSTAMP:20260421T125508
CREATED:20240223T162900Z
LAST-MODIFIED:20240223T163328Z
UID:18807-1709715600-1709737200@www.workforcesolutionscb.org
SUMMARY:Harbor Bridge Project Hiring Event
DESCRIPTION:Please join us for an in-person Job Fair!\n\n\n\n\n\n\n\n\n\n\n\n\n\n\n\n\n\nAbout This Event\n\n\n\nFlatiron|Dragados offers competitive wages along with a compensation package that includes medical\, dental\, vision care and paid time off. \n\n\n\nHiring For: \n\n\n\n\nCarpenters\n\n\n\nFormsetters\n\n\n\nIron Workers\n\n\n\n\nEvent Registration\n\n\n\n\nRegister On-Site\n\n\n\nEnsure Your Resume is Up-To-Date\n\n\n\nBe prepared to Interview\n\n\n\nIf provided\, Use the Job Number to search on WorkInTexas.com\n\n\n\n\nFor More Information Contact\n\n\n\n\n\n\n\n\n\n\nShare this on Social Media
URL:https://www.workforcesolutionscb.org/event/harbor-bridge-project-hiring-event/
LOCATION:Texas
ATTACH;FMTTYPE=image/png:https://www.workforcesolutionscb.org/wp-content/uploads/2023/01/Harbor-Bridge-Project-Flier-Print-Size_Page_1.png
END:VEVENT
END:VCALENDAR