BEGIN:VCALENDAR
VERSION:2.0
PRODID:-//Workforce Solutions Coastal Bend - ECPv6.15.16//NONSGML v1.0//EN
CALSCALE:GREGORIAN
METHOD:PUBLISH
X-ORIGINAL-URL:https://www.workforcesolutionscb.org
X-WR-CALDESC:Events for Workforce Solutions Coastal Bend
REFRESH-INTERVAL;VALUE=DURATION:PT1H
X-Robots-Tag:noindex
X-PUBLISHED-TTL:PT1H
BEGIN:VTIMEZONE
TZID:America/Chicago
BEGIN:DAYLIGHT
TZOFFSETFROM:-0600
TZOFFSETTO:-0500
TZNAME:CDT
DTSTART:20230312T080000
END:DAYLIGHT
BEGIN:STANDARD
TZOFFSETFROM:-0500
TZOFFSETTO:-0600
TZNAME:CST
DTSTART:20231105T070000
END:STANDARD
BEGIN:DAYLIGHT
TZOFFSETFROM:-0600
TZOFFSETTO:-0500
TZNAME:CDT
DTSTART:20240310T080000
END:DAYLIGHT
BEGIN:STANDARD
TZOFFSETFROM:-0500
TZOFFSETTO:-0600
TZNAME:CST
DTSTART:20241103T070000
END:STANDARD
BEGIN:DAYLIGHT
TZOFFSETFROM:-0600
TZOFFSETTO:-0500
TZNAME:CDT
DTSTART:20250309T080000
END:DAYLIGHT
BEGIN:STANDARD
TZOFFSETFROM:-0500
TZOFFSETTO:-0600
TZNAME:CST
DTSTART:20251102T070000
END:STANDARD
END:VTIMEZONE
BEGIN:VEVENT
DTSTART;TZID=America/Chicago:20240926T100000
DTEND;TZID=America/Chicago:20240926T140000
DTSTAMP:20260420T231242
CREATED:20240917T162645Z
LAST-MODIFIED:20240917T162646Z
UID:30322-1727344800-1727359200@www.workforcesolutionscb.org
SUMMARY:Tarpon Specialty Services Hiring Event
DESCRIPTION:About This Event\n\n\n\n\n\nThis is an In-Person Hiring Event located at: \n\n\n\n\n\nLocated inside Goodwill. \n\n\n\nHiring: Crane Operators and Pipe Fitters \n\n\n\nEvent Registration\n\n\n\nRegister On-site \n\n\n\n\nEnsure Your Resume is Up-To-Date\n\n\n\nBe prepared to Interview\n\n\n\nUse the Job Number to search on WorkInTexas.com if provided\n\n\n\n\nFor More information\, Contact: \n\n\n\n(361)800-2138\, Elizabeth MartinezEmail: Elizabeth.Martinez@workforcesolutionscb.org
URL:https://www.workforcesolutionscb.org/event/tarpon-specialty-services-hiring-event/
LOCATION:Workforce Solutions Coastal Bend – Rockport Career Center\, 1326 HWY 35 N.\, Rockport\, TX\, Texas\, 78382\, United States
ATTACH;FMTTYPE=image/jpeg:https://www.workforcesolutionscb.org/wp-content/uploads/2024/09/Tarpon-Hiring-Event.jpg
END:VEVENT
END:VCALENDAR