BEGIN:VCALENDAR
VERSION:2.0
PRODID:-//Workforce Solutions Coastal Bend - ECPv6.15.16//NONSGML v1.0//EN
CALSCALE:GREGORIAN
METHOD:PUBLISH
X-WR-CALNAME:Workforce Solutions Coastal Bend
X-ORIGINAL-URL:https://www.workforcesolutionscb.org
X-WR-CALDESC:Events for Workforce Solutions Coastal Bend
REFRESH-INTERVAL;VALUE=DURATION:PT1H
X-Robots-Tag:noindex
X-PUBLISHED-TTL:PT1H
BEGIN:VTIMEZONE
TZID:America/Chicago
BEGIN:DAYLIGHT
TZOFFSETFROM:-0600
TZOFFSETTO:-0500
TZNAME:CDT
DTSTART:20220313T080000
END:DAYLIGHT
BEGIN:STANDARD
TZOFFSETFROM:-0500
TZOFFSETTO:-0600
TZNAME:CST
DTSTART:20221106T070000
END:STANDARD
BEGIN:DAYLIGHT
TZOFFSETFROM:-0600
TZOFFSETTO:-0500
TZNAME:CDT
DTSTART:20230312T080000
END:DAYLIGHT
BEGIN:STANDARD
TZOFFSETFROM:-0500
TZOFFSETTO:-0600
TZNAME:CST
DTSTART:20231105T070000
END:STANDARD
BEGIN:DAYLIGHT
TZOFFSETFROM:-0600
TZOFFSETTO:-0500
TZNAME:CDT
DTSTART:20240310T080000
END:DAYLIGHT
BEGIN:STANDARD
TZOFFSETFROM:-0500
TZOFFSETTO:-0600
TZNAME:CST
DTSTART:20241103T070000
END:STANDARD
END:VTIMEZONE
BEGIN:VEVENT
DTSTART;TZID=America/Chicago:20230705T090000
DTEND;TZID=America/Chicago:20230705T130000
DTSTAMP:20260422T032348
CREATED:20230620T174653Z
LAST-MODIFIED:20230621T161835Z
UID:20853-1688547600-1688562000@www.workforcesolutionscb.org
SUMMARY:PSC Group Hiring Event
DESCRIPTION:Event Date & Time\n\n\n\n\n\n\n\nEvent Location\n\n\n\nThis is an in-person hiring event located at: \n\n\n\n\n\n\n\n\n\n\nAbout This Event\n\n\n\nSince 1952\, PSC Group (previously known as Petroleum Service Corporation) has been committed to safely and efficiently meeting the product handling and site logistics needs of the leading companies in the refining\, chemical\, and marine industries. While our name has changed\, we remain focused on the values that have been the foundation for our long-term success:  \n\n\n\nEvent Registration\n\n\n\n\nRegister On-Site\n\n\n\nEnsure Your Resume is Up-To-Date\n\n\n\nLog into WorklnTexas.com to view Job Details\n\n\n\nBe prepared to Interview\n\n\n\n\nContact For More Information\n\n\n\nCall: 888-860-5627 \n\n\n\n\n\n\n\n\n\nWorkInTexas
URL:https://www.workforcesolutionscb.org/event/psc-group-hiring-event/
LOCATION:Workforce Solutions Coastal Bend – Staples Career Center\, 520 N Staples St\, Corpus Christi\, TX\, 78401\, United States
END:VEVENT
BEGIN:VEVENT
DTSTART;TZID=America/Chicago:20230713T090000
DTEND;TZID=America/Chicago:20230713T130000
DTSTAMP:20260422T032348
CREATED:20230707T205814Z
LAST-MODIFIED:20230710T215025Z
UID:21056-1689238800-1689253200@www.workforcesolutionscb.org
SUMMARY:QLM - Solar Hiring Event - Sinton
DESCRIPTION:Event Date & Time\n\n\n\n\n\n\n\nEvent Location\n\n\n\nThis is an in-person hiring event located at: \n\n\n\n\n\n\n\n\n\n\nAbout This Event\n\n\n\nSOLAR JOBS IN TAFT\, TEXAS. \n\n\n\n\nHiring General Labors\n\n\n\nSkilled Labor\n\n\n\nSolar Installers\n\n\n\nElectricians\n\n\n\nHeavy Equipment Operators\n\n\n\n\nEvent Registration\n\n\n\n\nGo to myqlm.com to apply and attend the Hiring Event to be interviewed and hired on the spot!\n\n\n\nEnsure Your Resume is Up-To-Date\n\n\n\nLog into WorklnTexas.com to view Job Details\n\n\n\nBe prepared to Interview\n\n\n\n\nContact For More Information\n\n\n\nmyqlm.com \n\n\n\n\n\n\n\n\n\nRegister & Apply\n\n\n\nDownload Flier\n\n\n\nWorkInTexas
URL:https://www.workforcesolutionscb.org/event/qlm-solar-hiring-event-sinton/
LOCATION:Workforce Solutions Coastal Bend – Sinton Career Center\, 1113 E Sinton St\, Sinton\, Texas\, 78387\, United States
ATTACH;FMTTYPE=image/jpeg:https://www.workforcesolutionscb.org/wp-content/uploads/2023/07/QLM-Hiring-Event_Sinton_07-13-2023-scaled.jpg
END:VEVENT
BEGIN:VEVENT
DTSTART;TZID=America/Chicago:20230719T090000
DTEND;TZID=America/Chicago:20230719T130000
DTSTAMP:20260422T032348
CREATED:20230710T200143Z
LAST-MODIFIED:20230720T134223Z
UID:21082-1689757200-1689771600@www.workforcesolutionscb.org
SUMMARY:NEO Industries Hiring Event
DESCRIPTION:Event Date & Time\n\n\n\n\n\n\n\nEvent Location\n\n\n\nThis is an in-person hiring event at: \n\n\n\n\n\nAbout This Event\n\n\n\nHiring for:  \n\n\n\n\nProcessor (Work in Texas Job #16078978)\n\n\n\n\nEvent Registration\n\n\n\n\nRegister On-site\n\n\n\nEnsure Your Resume is Up-To-Date\n\n\n\nLog into WorklnTexas.com to view Job Details\n\n\n\nBe prepared to Interview\n\n\n\n\nContact For More Information\n\n\n\nBusiness Solutions Unit (BSU) – omero.luna@workforcesolutionscb.org or 361-673-1698 \n\n\n\n\n\n\n\n\n\n\nWorkInTexas
URL:https://www.workforcesolutionscb.org/event/neo-industries-hiring-event/
LOCATION:Workforce Solutions Coastal Bend – Beeville Career Center\, 3800 Charco Rd\, Beeville\, Texas\, 78102\, United States
END:VEVENT
END:VCALENDAR