BEGIN:VCALENDAR
VERSION:2.0
PRODID:-//Workforce Solutions Coastal Bend - ECPv6.15.16//NONSGML v1.0//EN
CALSCALE:GREGORIAN
METHOD:PUBLISH
X-WR-CALNAME:Workforce Solutions Coastal Bend
X-ORIGINAL-URL:https://www.workforcesolutionscb.org
X-WR-CALDESC:Events for Workforce Solutions Coastal Bend
REFRESH-INTERVAL;VALUE=DURATION:PT1H
X-Robots-Tag:noindex
X-PUBLISHED-TTL:PT1H
BEGIN:VTIMEZONE
TZID:America/Chicago
BEGIN:DAYLIGHT
TZOFFSETFROM:-0600
TZOFFSETTO:-0500
TZNAME:CDT
DTSTART:20220313T080000
END:DAYLIGHT
BEGIN:STANDARD
TZOFFSETFROM:-0500
TZOFFSETTO:-0600
TZNAME:CST
DTSTART:20221106T070000
END:STANDARD
BEGIN:DAYLIGHT
TZOFFSETFROM:-0600
TZOFFSETTO:-0500
TZNAME:CDT
DTSTART:20230312T080000
END:DAYLIGHT
BEGIN:STANDARD
TZOFFSETFROM:-0500
TZOFFSETTO:-0600
TZNAME:CST
DTSTART:20231105T070000
END:STANDARD
BEGIN:DAYLIGHT
TZOFFSETFROM:-0600
TZOFFSETTO:-0500
TZNAME:CDT
DTSTART:20240310T080000
END:DAYLIGHT
BEGIN:STANDARD
TZOFFSETFROM:-0500
TZOFFSETTO:-0600
TZNAME:CST
DTSTART:20241103T070000
END:STANDARD
END:VTIMEZONE
BEGIN:VEVENT
DTSTART;TZID=America/Chicago:20230609T090000
DTEND;TZID=America/Chicago:20230609T113000
DTSTAMP:20260422T051616
CREATED:20230607T171309Z
LAST-MODIFIED:20230607T171858Z
UID:20751-1686301200-1686310200@www.workforcesolutionscb.org
SUMMARY:Union Pacific Hiring Event
DESCRIPTION:Event Date & Time\n\n\n\n\n\n\n\nEvent Location\n\n\n\nThis is an in-person Professional Skills & Trades hiring event located at: \n\n\n\n\n\nAbout This Event\n\n\n\nThe Union Pacific Railroad is a freight-hauling railroad that operates 8\,500 locomotives over 32\,100 route-miles in 23 U.S. states west of Chicago and New Orleans. The Union Pacific Railroad system is the 2nd largest in the United States after BNSF and is one of the world’s largest transportation companies. \n\n\n\nWelder Helper #15983060 \n\n\n\nEvent Registration\n\n\n\n\nRegister On-Site\n\n\n\nEnsure Your Resume is Up-To-Date\n\n\n\nLog into WorklnTexas.com to view Job Details\n\n\n\nBe prepared to Interview\n\n\n\n\nContact For More Information\n\n\n\nCall: (361) 500-8460 \n\n\n\n\n\n\n\n\n\n\n\n\nWorkInTexas
URL:https://www.workforcesolutionscb.org/event/union-pacific-hiring-event/
LOCATION:Workforce Solutions Coastal Bend – Staples Career Center\, 520 N Staples St\, Corpus Christi\, TX\, 78401\, United States
END:VEVENT
END:VCALENDAR