BEGIN:VCALENDAR
VERSION:2.0
PRODID:-//Workforce Solutions Coastal Bend - ECPv6.15.16//NONSGML v1.0//EN
CALSCALE:GREGORIAN
METHOD:PUBLISH
X-WR-CALNAME:Workforce Solutions Coastal Bend
X-ORIGINAL-URL:https://www.workforcesolutionscb.org
X-WR-CALDESC:Events for Workforce Solutions Coastal Bend
REFRESH-INTERVAL;VALUE=DURATION:PT1H
X-Robots-Tag:noindex
X-PUBLISHED-TTL:PT1H
BEGIN:VTIMEZONE
TZID:America/Chicago
BEGIN:DAYLIGHT
TZOFFSETFROM:-0600
TZOFFSETTO:-0500
TZNAME:CDT
DTSTART:20240310T080000
END:DAYLIGHT
BEGIN:STANDARD
TZOFFSETFROM:-0500
TZOFFSETTO:-0600
TZNAME:CST
DTSTART:20241103T070000
END:STANDARD
BEGIN:DAYLIGHT
TZOFFSETFROM:-0600
TZOFFSETTO:-0500
TZNAME:CDT
DTSTART:20250309T080000
END:DAYLIGHT
BEGIN:STANDARD
TZOFFSETFROM:-0500
TZOFFSETTO:-0600
TZNAME:CST
DTSTART:20251102T070000
END:STANDARD
BEGIN:DAYLIGHT
TZOFFSETFROM:-0600
TZOFFSETTO:-0500
TZNAME:CDT
DTSTART:20260308T080000
END:DAYLIGHT
BEGIN:STANDARD
TZOFFSETFROM:-0500
TZOFFSETTO:-0600
TZNAME:CST
DTSTART:20261101T070000
END:STANDARD
END:VTIMEZONE
BEGIN:VEVENT
DTSTART;TZID=America/Chicago:20250813T090000
DTEND;TZID=America/Chicago:20250813T150000
DTSTAMP:20260419T211939
CREATED:20250730T152025Z
LAST-MODIFIED:20250730T152956Z
UID:42449-1755075600-1755097200@www.workforcesolutionscb.org
SUMMARY:Compass Connections Hiring Event August 13
DESCRIPTION:About This Event\n\n\n\n\n\nThis is an In-Person Hiring Event located at: \n\n\n\n\n\nDon’t miss this great opportunity! Bring your resume\, valid drivers license\, IDs and any other documents to showcase all of your qualifications! Must be 21 years or older\, fluent in Spanish & English and have a high school diploma or GED. \n\n\n\nHiring for: \n\n\n\n\nDirect Care Workers\n\n\n\nMedical Technicians\n\n\n\nEducational Facilitator\n\n\n\nCase Managers\n\n\n\nCooks & Custodians\n\n\n\nMaintenance Techs\n\n\n\n\nEvent Registration\n\n\n\nView open positions here:  \n\n\n\n\nEnsure Your Resume is Up-To-Date\n\n\n\nBe prepared to Interview\n\n\n\nUse the Job Number to search on WorkInTexas.com
URL:https://www.workforcesolutionscb.org/event/compass-connections-hiring-event-august-13/
LOCATION:Residence Inn Hotel\, 3313 S Padre Island Dr.\, Corpus Christi\, Texas\, 78415\, United States
ATTACH;FMTTYPE=image/png:https://www.workforcesolutionscb.org/wp-content/uploads/2025/07/Corpus-Christi-TX_AUG13_HiEvFly.png
END:VEVENT
BEGIN:VEVENT
DTSTART;TZID=America/Chicago:20250813T090000
DTEND;TZID=America/Chicago:20250813T150000
DTSTAMP:20260419T211939
CREATED:20250730T160235Z
LAST-MODIFIED:20250812T203822Z
UID:42468-1755075600-1755097200@www.workforcesolutionscb.org
SUMMARY:enCore Energy Hiring Event
DESCRIPTION:About This Event\n\n\n\n\n\nThis is an In-Person Hiring Event located at: \n\n\n\n\n\nHiring for: \n\n\n\nPositionJob Posting #WageOpeningsWellfield Operator16897477DOE4Wellfield Maintenance Technician16897472DOE4\n\n\n\nEvent Registration\n\n\n\n\nEnsure Your Resume is Up-To-Date\n\n\n\nBe prepared to Interview\n\n\n\nUse the Job Number to search on WorkInTexas.com
URL:https://www.workforcesolutionscb.org/event/encore-energy/
LOCATION:Holiday Inn Express — George West\, 200 S. Nueces Street\, George West\, Texas\, 78022\, United States
ATTACH;FMTTYPE=image/jpeg:https://www.workforcesolutionscb.org/wp-content/uploads/2025/07/Encore-Energy-Hiring-Event_Flyer.new-8-4-2025-Approved.jpg
END:VEVENT
END:VCALENDAR