BEGIN:VCALENDAR
VERSION:2.0
PRODID:-//Workforce Solutions Coastal Bend - ECPv6.15.16//NONSGML v1.0//EN
CALSCALE:GREGORIAN
METHOD:PUBLISH
X-ORIGINAL-URL:https://www.workforcesolutionscb.org
X-WR-CALDESC:Events for Workforce Solutions Coastal Bend
REFRESH-INTERVAL;VALUE=DURATION:PT1H
X-Robots-Tag:noindex
X-PUBLISHED-TTL:PT1H
BEGIN:VTIMEZONE
TZID:America/Chicago
BEGIN:DAYLIGHT
TZOFFSETFROM:-0600
TZOFFSETTO:-0500
TZNAME:CDT
DTSTART:20240310T080000
END:DAYLIGHT
BEGIN:STANDARD
TZOFFSETFROM:-0500
TZOFFSETTO:-0600
TZNAME:CST
DTSTART:20241103T070000
END:STANDARD
BEGIN:DAYLIGHT
TZOFFSETFROM:-0600
TZOFFSETTO:-0500
TZNAME:CDT
DTSTART:20250309T080000
END:DAYLIGHT
BEGIN:STANDARD
TZOFFSETFROM:-0500
TZOFFSETTO:-0600
TZNAME:CST
DTSTART:20251102T070000
END:STANDARD
BEGIN:DAYLIGHT
TZOFFSETFROM:-0600
TZOFFSETTO:-0500
TZNAME:CDT
DTSTART:20260308T080000
END:DAYLIGHT
BEGIN:STANDARD
TZOFFSETFROM:-0500
TZOFFSETTO:-0600
TZNAME:CST
DTSTART:20261101T070000
END:STANDARD
END:VTIMEZONE
BEGIN:VEVENT
DTSTART;TZID=America/Chicago:20250605T103000
DTEND;TZID=America/Chicago:20250605T150000
DTSTAMP:20260420T003203
CREATED:20250523T150315Z
LAST-MODIFIED:20250523T173344Z
UID:38257-1749119400-1749135600@www.workforcesolutionscb.org
SUMMARY:Youth Summer Job Fair 2025
DESCRIPTION:About This Event\n\n\n\n\n\nThis is an In-Person Hiring Event located at: \n\n\n\n\n\n \n\n\n\nEvent Registration\n\n\n\nRegister here:  \n\n\n\n\nEnsure Your Resume is Up-To-Date\n\n\n\nBe prepared to Interview\n\n\n\nUse the Job Number to search on WorkInTexas.com
URL:https://www.workforcesolutionscb.org/event/youth-summer-job-fair/
LOCATION:Elevate 361\, 3015 Morgan Ave\, Corpus Christi\, Texas\, 78405\, United States
ATTACH;FMTTYPE=image/jpeg:https://www.workforcesolutionscb.org/wp-content/uploads/2025/05/Youth-Job-Fair-2025.jpg
END:VEVENT
BEGIN:VEVENT
DTSTART;TZID=America/Chicago:20250605T163000
DTEND;TZID=America/Chicago:20250605T180000
DTSTAMP:20260420T003203
CREATED:20250605T144323Z
LAST-MODIFIED:20250605T144324Z
UID:36960-1749141000-1749146400@www.workforcesolutionscb.org
SUMMARY:Alice ISD Job Fair 2025
DESCRIPTION:About This Event\n\n\n\n\n\nThis is an In-Person Hiring Event located at: \n\n\n\n\n\nPositions available:  \n\n\n\n\nTeachers (EC–6\, 4–8\, 8–12\, SPED\, Fine Arts)\n\n\n\nCustodians\n\n\n\nSecurity Guards\n\n\n\nFood & Nutrition\n\n\n\nTransportation Staff\n\n\n\n\nEvent Registration\n\n\n\n\nEnsure Your Resume is Up-To-Date\n\n\n\nBe prepared to Interview\n\n\n\nUse the Job Number to search on WorkInTexas.com
URL:https://www.workforcesolutionscb.org/event/alice-isd-job-fair-2025/
LOCATION:Alice ISD Board Room\, 2 Coyote Trail\, Alice\, Texas\, 78332\, United States
ATTACH;FMTTYPE=image/jpeg:https://www.workforcesolutionscb.org/wp-content/uploads/2025/04/Alice-ISD-Job-Fair-Flier-6-05-25.jpg
END:VEVENT
END:VCALENDAR