BEGIN:VCALENDAR
VERSION:2.0
PRODID:-//Workforce Solutions Coastal Bend - ECPv6.15.16//NONSGML v1.0//EN
CALSCALE:GREGORIAN
METHOD:PUBLISH
X-ORIGINAL-URL:https://www.workforcesolutionscb.org
X-WR-CALDESC:Events for Workforce Solutions Coastal Bend
REFRESH-INTERVAL;VALUE=DURATION:PT1H
X-Robots-Tag:noindex
X-PUBLISHED-TTL:PT1H
BEGIN:VTIMEZONE
TZID:America/Chicago
BEGIN:DAYLIGHT
TZOFFSETFROM:-0600
TZOFFSETTO:-0500
TZNAME:CDT
DTSTART:20220313T080000
END:DAYLIGHT
BEGIN:STANDARD
TZOFFSETFROM:-0500
TZOFFSETTO:-0600
TZNAME:CST
DTSTART:20221106T070000
END:STANDARD
BEGIN:DAYLIGHT
TZOFFSETFROM:-0600
TZOFFSETTO:-0500
TZNAME:CDT
DTSTART:20230312T080000
END:DAYLIGHT
BEGIN:STANDARD
TZOFFSETFROM:-0500
TZOFFSETTO:-0600
TZNAME:CST
DTSTART:20231105T070000
END:STANDARD
BEGIN:DAYLIGHT
TZOFFSETFROM:-0600
TZOFFSETTO:-0500
TZNAME:CDT
DTSTART:20240310T080000
END:DAYLIGHT
BEGIN:STANDARD
TZOFFSETFROM:-0500
TZOFFSETTO:-0600
TZNAME:CST
DTSTART:20241103T070000
END:STANDARD
END:VTIMEZONE
BEGIN:VEVENT
DTSTART;TZID=America/Chicago:20230918T100000
DTEND;TZID=America/Chicago:20230918T140000
DTSTAMP:20260423T152902
CREATED:20230911T214651Z
LAST-MODIFIED:20230911T214653Z
UID:21694-1695031200-1695045600@www.workforcesolutionscb.org
SUMMARY:CC Regional Transportation Authority Hiring Event
DESCRIPTION:Event Date & Time\n\n\n\n\n\n\n\nEvent Location\n\n\n\nThis is an In-Person event at the following location:  \n\n\n\n\n\n\n\n\n\n\nAbout This Event\n\n\n\nHiring for the following positions:  \n\n\n\nPositionJob Posting #WageOpeningsBus Operators (Full Time)#16046499TBDMultipleBus Operators (Part Time)#16046545TBDMultiple\n\n\n\nEvent Registration\n\n\n\n\nRegister On-Site\n\n\n\nEnsure Your Resume is Up-To-Date\n\n\n\nLog into and search WorklnTexas.com to view Job Details using the company name or job number provided\n\n\n\nBe prepared to Interview\n\n\n\n\nContact For More Information\n\n\n\nCall: 888-860-5627 or Visit us at one of our local Career Centers
URL:https://www.workforcesolutionscb.org/event/cc-regional-transportation-authority-hiring-event-2/
LOCATION:CCRTA Operations Facility\, 5658 Bear Lane\, Corpus Christi\, Texas\, 78406\, United States
END:VEVENT
END:VCALENDAR