BEGIN:VCALENDAR
VERSION:2.0
PRODID:-//Workforce Solutions Coastal Bend - ECPv6.15.16//NONSGML v1.0//EN
CALSCALE:GREGORIAN
METHOD:PUBLISH
X-WR-CALNAME:Workforce Solutions Coastal Bend
X-ORIGINAL-URL:https://www.workforcesolutionscb.org
X-WR-CALDESC:Events for Workforce Solutions Coastal Bend
REFRESH-INTERVAL;VALUE=DURATION:PT1H
X-Robots-Tag:noindex
X-PUBLISHED-TTL:PT1H
BEGIN:VTIMEZONE
TZID:America/Chicago
BEGIN:DAYLIGHT
TZOFFSETFROM:-0600
TZOFFSETTO:-0500
TZNAME:CDT
DTSTART:20230312T080000
END:DAYLIGHT
BEGIN:STANDARD
TZOFFSETFROM:-0500
TZOFFSETTO:-0600
TZNAME:CST
DTSTART:20231105T070000
END:STANDARD
BEGIN:DAYLIGHT
TZOFFSETFROM:-0600
TZOFFSETTO:-0500
TZNAME:CDT
DTSTART:20240310T080000
END:DAYLIGHT
BEGIN:STANDARD
TZOFFSETFROM:-0500
TZOFFSETTO:-0600
TZNAME:CST
DTSTART:20241103T070000
END:STANDARD
BEGIN:DAYLIGHT
TZOFFSETFROM:-0600
TZOFFSETTO:-0500
TZNAME:CDT
DTSTART:20250309T080000
END:DAYLIGHT
BEGIN:STANDARD
TZOFFSETFROM:-0500
TZOFFSETTO:-0600
TZNAME:CST
DTSTART:20251102T070000
END:STANDARD
END:VTIMEZONE
BEGIN:VEVENT
DTSTART;TZID=America/Chicago:20240710T090000
DTEND;TZID=America/Chicago:20240710T120000
DTSTAMP:20260422T183301
CREATED:20240626T152359Z
LAST-MODIFIED:20240626T152638Z
UID:21076-1720602000-1720612800@www.workforcesolutionscb.org
SUMMARY:CCISD District Hiring Event
DESCRIPTION:About This Event\n\n\n\nThis is an In-Person Hiring Event located at: \n\n\n\n\n\nHiring for open positions across the district: \n\n\n\n\nTeachers/Coaches\n\n\n\nParaprofessionals\n\n\n\nNurses\n\n\n\nSpecial Education Positions\n\n\n\nSubstitute Teachers/Paraprofessionals\n\n\n\nPolice/Safety Officers\n\n\n\nBus Drivers/Bus Attendants\n\n\n\nCustodians\n\n\n\nCafeteria Helpers\n\n\n\n\nEvent Registration\n\n\n\nApply Here:  \n\n\n\n\nEnsure Your Resume is Up-To-Date\n\n\n\nBe prepared to Interview\n\n\n\nUse the Job Number to search on WorkInTexas.com\n\n\n\n\n\n\n\n\n\n\n\n\n\n\nEvent Location\n\n\n\nThis is an in-person hiring event at: \n\n\n\nAbout This Event\n\n\n\nEvent Registration\n\n\n\n\nRegister on-site\n\n\n\nApply online @ ccisd.us\n\n\n\nEnsure Your Resume is Up-To-Date\n\n\n\nLog into WorklnTexas.com to view Job Details\n\n\n\nBe prepared to Interview
URL:https://www.workforcesolutionscb.org/event/ccisd-district-hiring-event/
LOCATION:Mary Carroll High School Arena\, 3202 Saratoga BLVD\, Corpus Christi\, TX\, 78415\, United States
ATTACH;FMTTYPE=image/jpeg:https://www.workforcesolutionscb.org/wp-content/uploads/2023/07/District-Hiring-Event.jpg
END:VEVENT
BEGIN:VEVENT
DTSTART;TZID=America/Chicago:20240711T140000
DTEND;TZID=America/Chicago:20240711T170000
DTSTAMP:20260422T183301
CREATED:20240626T153913Z
LAST-MODIFIED:20240626T153918Z
UID:25348-1720706400-1720717200@www.workforcesolutionscb.org
SUMMARY:Omni Hotel Job Fair for Seniors (Ages 55+)
DESCRIPTION:About This Event\n\n\n\n\n\nThis is an In-Person Hiring Event located at: \n\n\n\n\n\nHiring full-time\, part time\, and seasonal positionsFood & beverage\, guest services\, culinary\, housekeeping\, & more! \n\n\n\nCompetitive pay availableBenefits (Medical\, Vision\, Dental\, etc.)401k availablePaid Time OffReferral BonusesFree Employee mealsDiscount Programs & More \n\n\n\nEvent Registration\n\n\n\nApply Here:  \n\n\n\n\nEnsure Your Resume is Up-To-Date\n\n\n\nBe prepared to Interview\n\n\n\nUse the Job Number to search on WorkInTexas.com
URL:https://www.workforcesolutionscb.org/event/omni-hotel-job-fair-for-seniors-ages-55/
LOCATION:Omni Hotel Corpus Christi\, 900 N. Shoreline Blvd.\, Corpus Christi\, Texas\, 78401\, United States
ATTACH;FMTTYPE=image/jpeg:https://www.workforcesolutionscb.org/wp-content/uploads/2024/06/Job-Fair-Flyer-Omni-7.11.24.jpg
END:VEVENT
END:VCALENDAR