BEGIN:VCALENDAR
VERSION:2.0
PRODID:-//Workforce Solutions Coastal Bend - ECPv6.15.16//NONSGML v1.0//EN
CALSCALE:GREGORIAN
METHOD:PUBLISH
X-WR-CALNAME:Workforce Solutions Coastal Bend
X-ORIGINAL-URL:https://www.workforcesolutionscb.org
X-WR-CALDESC:Events for Workforce Solutions Coastal Bend
REFRESH-INTERVAL;VALUE=DURATION:PT1H
X-Robots-Tag:noindex
X-PUBLISHED-TTL:PT1H
BEGIN:VTIMEZONE
TZID:America/Chicago
BEGIN:DAYLIGHT
TZOFFSETFROM:-0600
TZOFFSETTO:-0500
TZNAME:CDT
DTSTART:20220313T080000
END:DAYLIGHT
BEGIN:STANDARD
TZOFFSETFROM:-0500
TZOFFSETTO:-0600
TZNAME:CST
DTSTART:20221106T070000
END:STANDARD
BEGIN:DAYLIGHT
TZOFFSETFROM:-0600
TZOFFSETTO:-0500
TZNAME:CDT
DTSTART:20230312T080000
END:DAYLIGHT
BEGIN:STANDARD
TZOFFSETFROM:-0500
TZOFFSETTO:-0600
TZNAME:CST
DTSTART:20231105T070000
END:STANDARD
BEGIN:DAYLIGHT
TZOFFSETFROM:-0600
TZOFFSETTO:-0500
TZNAME:CDT
DTSTART:20240310T080000
END:DAYLIGHT
BEGIN:STANDARD
TZOFFSETFROM:-0500
TZOFFSETTO:-0600
TZNAME:CST
DTSTART:20241103T070000
END:STANDARD
END:VTIMEZONE
BEGIN:VEVENT
DTSTART;TZID=America/Chicago:20230601T090000
DTEND;TZID=America/Chicago:20230601T140000
DTSTAMP:20260423T183755
CREATED:20230503T153533Z
LAST-MODIFIED:20230525T144717Z
UID:20353-1685610000-1685628000@www.workforcesolutionscb.org
SUMMARY:Nueces County Hiring Event
DESCRIPTION:Event Date & Time\n\n\n\n\n\n\n\nEvent Location\n\n\n\nThis is an in-person hiring event located at: \n\n\n\n\n\n\n\n\n\n\n\n\nAbout This Event\n\n\n\nCome ready to talk to Nueces County HR staff about career opportunities working for the county! \n\n\n\nTransitioning Service Members\, Veterans and their family members who are seeking employment and resources are encouraged to attend this event early! Priority entrance is give to beginning at 9am. \n\n\n\nOpen to the general public at 10am. Job seekers are encouraged to dress career ready and come prepared with multiple copies of their resumes. \n\n\n\nVeteran Services will also be available onsite to offer assistance and information about programs and services that are available to service members\, veterans and their families. \n\n\n\nEvent Registration\n\n\n\n\nRegister On-Site\n\n\n\nEnsure Your Resume is Up-To-Date\n\n\n\nLog into WorklnTexas.com to view Job Details\n\n\n\nBe prepared to Interview\n\n\n\n\nContact For More Information\n\n\n\nBusiness Solutions Unit (BSU) – Esperanza Vela @ 361-500-8944 \n\n\n\n\n\n\n\n\n\nDownload Flier\n\n\n\nWorkInTexas
URL:https://www.workforcesolutionscb.org/event/nueces-county-hiring-event-2/
LOCATION:Workforce Solutions Coastal Bend – Staples Career Center\, 520 N Staples St\, Corpus Christi\, TX\, 78401\, United States
ATTACH;FMTTYPE=image/jpeg:https://www.workforcesolutionscb.org/wp-content/uploads/2023/05/Nueces-County-Career-Expo-6-1-2023-InPerson.jpg
END:VEVENT
BEGIN:VEVENT
DTSTART;TZID=America/Chicago:20230607T090000
DTEND;TZID=America/Chicago:20230607T120000
DTSTAMP:20260423T183755
CREATED:20230530T144645Z
LAST-MODIFIED:20230530T144648Z
UID:20702-1686128400-1686139200@www.workforcesolutionscb.org
SUMMARY:Tex-Best Travel Center Hiring Event
DESCRIPTION:Event Date & Time\n\n\n\n\n\n\n\nEvent Location\n\n\n\nThis is an in-person hiring event located at: \n\n\n\n\n\n\n\n\n\n\n\n\nAbout This Event\n\n\n\nPositionJob Posting #WageOpeningsAssistant Store Manager/George West#16000455DOE1Customer Service Associate/George West#16000442DOE1Food Service Associate/George West#16000447DOE1\n\n\n\nEvent Registration\n\n\n\n\nRegister On-Site\n\n\n\nEnsure Your Resume is Up-To-Date\n\n\n\nLog into WorklnTexas.com to view Job Details\n\n\n\nBe prepared to Interview\n\n\n\n\nContact For More Information\n\n\n\nCall 361-673-1698 \n\n\n\n\n\n\n\n\n\nDownload Flier\n\n\n\nWorkInTexas
URL:https://www.workforcesolutionscb.org/event/tex-best-travel-center-hiring-event/
LOCATION:Workforce Solutions Coastal Bend – Beeville Career Center\, 3800 Charco Rd\, Beeville\, Texas\, 78102\, United States
ATTACH;FMTTYPE=image/jpeg:https://www.workforcesolutionscb.org/wp-content/uploads/2023/05/TexBesthiringevent0607231XM19632.jpg
END:VEVENT
BEGIN:VEVENT
DTSTART;TZID=America/Chicago:20230607T090000
DTEND;TZID=America/Chicago:20230607T120000
DTSTAMP:20260423T183755
CREATED:20230530T145542Z
LAST-MODIFIED:20230607T170853Z
UID:20705-1686128400-1686139200@www.workforcesolutionscb.org
SUMMARY:Compass Connections Hiring Event
DESCRIPTION:About Compass Connections:\n\n\n\nCompass Connections has been impacting and meeting the needs of the community’s most vulnerable children and families through residential care\, community-based support\, foster care\, and adoption services. \n\n\n\nLeveraging more than a century of collective child welfare experience\, Compass Connections\, a Texas based non-profit organization\, is a national leader in connecting\, strengthening\, and transforming families from around the globe. \n\n\n\nEvent Date & Time\n\n\n\n\n\n\n\nEvent Location\n\n\n\nThis is an in-person Health Care hiring event located at: \n\n\n\n\n\nAbout This Event\n\n\n\nHiring For Multiple Positions \n\n\n\nEvent Registration\n\n\n\n\nRegister On-Site\n\n\n\nEnsure Your Resume is Up-To-Date\n\n\n\nLog into WorklnTexas.com to view Job Details\n\n\n\nBe prepared to Interview\n\n\n\n\nContact For More Information\n\n\n\nCall: (361) 500-8460 \n\n\n\n\n\n\n\n\n\n\n\n\nDownload Flier\n\n\n\nWorkInTexas
URL:https://www.workforcesolutionscb.org/event/compass-connections-hiring-event-2/
LOCATION:Workforce Solutions Coastal Bend – Staples Career Center\, 520 N Staples St\, Corpus Christi\, TX\, 78401\, United States
ATTACH;FMTTYPE=image/jpeg:https://www.workforcesolutionscb.org/wp-content/uploads/2023/05/CompassConnections.flyer-0607231XM19736.jpg
END:VEVENT
BEGIN:VEVENT
DTSTART;TZID=America/Chicago:20230609T090000
DTEND;TZID=America/Chicago:20230609T113000
DTSTAMP:20260423T183755
CREATED:20230607T171309Z
LAST-MODIFIED:20230607T171858Z
UID:20751-1686301200-1686310200@www.workforcesolutionscb.org
SUMMARY:Union Pacific Hiring Event
DESCRIPTION:Event Date & Time\n\n\n\n\n\n\n\nEvent Location\n\n\n\nThis is an in-person Professional Skills & Trades hiring event located at: \n\n\n\n\n\nAbout This Event\n\n\n\nThe Union Pacific Railroad is a freight-hauling railroad that operates 8\,500 locomotives over 32\,100 route-miles in 23 U.S. states west of Chicago and New Orleans. The Union Pacific Railroad system is the 2nd largest in the United States after BNSF and is one of the world’s largest transportation companies. \n\n\n\nWelder Helper #15983060 \n\n\n\nEvent Registration\n\n\n\n\nRegister On-Site\n\n\n\nEnsure Your Resume is Up-To-Date\n\n\n\nLog into WorklnTexas.com to view Job Details\n\n\n\nBe prepared to Interview\n\n\n\n\nContact For More Information\n\n\n\nCall: (361) 500-8460 \n\n\n\n\n\n\n\n\n\n\n\n\nWorkInTexas
URL:https://www.workforcesolutionscb.org/event/union-pacific-hiring-event/
LOCATION:Workforce Solutions Coastal Bend – Staples Career Center\, 520 N Staples St\, Corpus Christi\, TX\, 78401\, United States
END:VEVENT
BEGIN:VEVENT
DTSTART;TZID=America/Chicago:20230621T090000
DTEND;TZID=America/Chicago:20230621T120000
DTSTAMP:20260423T183755
CREATED:20230607T171430Z
LAST-MODIFIED:20230621T161523Z
UID:20753-1687338000-1687348800@www.workforcesolutionscb.org
SUMMARY:Coastal Bend Child Care Job Fair
DESCRIPTION:Event Date & Time\n\n\n\n\n\n\n\nEvent Location\n\n\n\nThis is an in-person Health Care hiring event located at: \n\n\n\n\n\n\n\n\n\n\nAbout This Event\n\n\n\nEmployerJob Posting #Job TitleBundles of Care Pre-K Center15997045 15997046Infant Teacher Toddler TeacherChild Logic16000000Childcare TeacherChildren’s Educare15993043TeacherDriscoll Children’s Hospital15995817Associate TeacherFirst Baptist Preschool of Portland16001959Childcare TeacherSecond Baptist Church Child Development Center15999584Child Care ProviderSmall World Learning Center16000397After School TeacherSt Bartholomew’s Episcopal Academy16002031Childcare TeacherMs. Toni’s Tots16004284 16004322Part-Time Childcare Teacher TeacherWesley Community Center15681189 15681182Classroom Caregiver/Corpus Christi Classroom Caregiver/Robstown\n\n\n\nEvent Registration\n\n\n\n\nRegister On-Site\n\n\n\nEnsure Your Resume is Up-To-Date\n\n\n\nLog into WorklnTexas.com to view Job Details\n\n\n\nBe prepared to Interview\n\n\n\n\nContact For More Information\n\n\n\nCall: (361) 500-8460 \n\n\n\n\n\n\n\n\n\nDownload Flier\n\n\n\nWorkInTexas
URL:https://www.workforcesolutionscb.org/event/coastal-bend-child-care-job-fair/
LOCATION:Workforce Solutions Coastal Bend – Staples Career Center\, 520 N Staples St\, Corpus Christi\, TX\, 78401\, United States
ATTACH;FMTTYPE=image/jpeg:https://www.workforcesolutionscb.org/wp-content/uploads/2023/06/Childcare-Hiring-Event-Flyer-1-2XM20981.jpg
END:VEVENT
BEGIN:VEVENT
DTSTART;TZID=America/Chicago:20230621T100000
DTEND;TZID=America/Chicago:20230621T150000
DTSTAMP:20260423T183755
CREATED:20230612T203258Z
LAST-MODIFIED:20230621T161531Z
UID:20775-1687341600-1687359600@www.workforcesolutionscb.org
SUMMARY:La Palmera Summer Job Fair
DESCRIPTION:Event Date & Time\n\n\n\n\n\n\n\nEvent Location\n\n\n\nThis is a Multi Sector\, in-person Job Fair located at: \n\n\n\n\n\n\n\n\n\n\nAbout This Event\n\n\n\nMultiple Employers Participating \n\n\n\nEvent Registration\n\n\n\n\nRegister On-Site\n\n\n\nEnsure Your Resume is Up-To-Date\n\n\n\nLog into WorklnTexas.com to view Job Details\n\n\n\nBe prepared to Interview\n\n\n\n\nContact For More Information\n\n\n\nEsperanza Vela 361-500-8944 \n\n\n\n\n\n\n\n\n\nWorkInTexas
URL:https://www.workforcesolutionscb.org/event/la-palmera-summer-job-fair/
LOCATION:La Palmera Mall\, 5488 S. Padre Island Drive\, Corpus Christi\, Texas\, 78411\, United States
ATTACH;FMTTYPE=image/jpeg:https://www.workforcesolutionscb.org/wp-content/uploads/2023/06/LP_SummerJobFair22x28_revised21409_Page_1-scaled.jpg
END:VEVENT
BEGIN:VEVENT
DTSTART;TZID=America/Chicago:20230622T090000
DTEND;TZID=America/Chicago:20230622T120000
DTSTAMP:20260423T183755
CREATED:20230612T203855Z
LAST-MODIFIED:20230621T161758Z
UID:20779-1687424400-1687435200@www.workforcesolutionscb.org
SUMMARY:Peopleready Hiring Event
DESCRIPTION:Event Date & Time\n\n\n\n\n\n\n\nEvent Location\n\n\n\nThis is an in-person hiring event located at: \n\n\n\n\n\n\n\n\n\n\nAbout This Event\n\n\n\nPositionJob Posting #WageOpeningsLandscaper16013482$10.00 hr.-$15.00 hr.4Construction Laborer15971446$10.00 hr.-$15.00 hr.4Janitor15969494$10.00 hr.-$15.00 hr.2Housekeeper15969450$10.00 hr.-$15.00 hr.2General Laborer15965031$10.00 hr.-$15.00 hr.5\n\n\n\nEvent Registration\n\n\n\n\nRegister On-Site\n\n\n\nEnsure Your Resume is Up-To-Date\n\n\n\nLog into WorklnTexas.com to view Job Details\n\n\n\nBe prepared to Interview\n\n\n\n\nContact For More Information\n\n\n\nCall: (361) 500-8460 \n\n\n\n\n\n\n\n\n\nDownload Flier\n\n\n\nWorkInTexas
URL:https://www.workforcesolutionscb.org/event/peopleready-hiring-event/
LOCATION:Workforce Solutions Coastal Bend – Staples Career Center\, 520 N Staples St\, Corpus Christi\, TX\, 78401\, United States
ATTACH;FMTTYPE=image/jpeg:https://www.workforcesolutionscb.org/wp-content/uploads/2023/06/Peoplereadyhiringevent0622231XM21917.jpg
END:VEVENT
BEGIN:VEVENT
DTSTART;TZID=America/Chicago:20230629T090000
DTEND;TZID=America/Chicago:20230629T120000
DTSTAMP:20260423T183756
CREATED:20230620T174210Z
LAST-MODIFIED:20230621T161817Z
UID:20843-1688029200-1688040000@www.workforcesolutionscb.org
SUMMARY:All Temps Personnel Hiring Event June 2023
DESCRIPTION:Event Date & Time\n\n\n\n\n\n\n\nEvent Location\n\n\n\nThis is an in-person hiring event located at: \n\n\n\n\n\n\n\n\n\n\nAbout This Event\n\n\n\nPositionJob Posting #WageOpeningsMaterial Purchaser (Corpus Christi)16032918$18.00 hr.1RN (Corpus Christi)16012876$25.00 hr.1Warehouse Associate (Corpus Christi)15975952$13.00 hr.1Commercial Electrician (Corpus Christi)15971377DOE1LVN (Corpus Christi)15971447$25.00 hr.1Backhoe Operator/Loader (Alice)15958017DOE2General Laborer (Alice)15957978DOE4Lawn Care Worker (Alice)15957995DOE2Search on WorkInTexas.com using the Job Posting Number\n\n\n\nEvent Registration\n\n\n\n\nRegister On-Site\n\n\n\nEnsure Your Resume is Up-To-Date\n\n\n\nLog into WorklnTexas.com to view Job Details\n\n\n\nBe prepared to Interview\n\n\n\n\nContact For More Information\n\n\n\nCall: (361) 500-8460 \n\n\n\n\n\n\n\n\n\nDownload Flier\n\n\n\nWorkInTexas
URL:https://www.workforcesolutionscb.org/event/all-temps-personnel-hiring-event-june-2023/
LOCATION:Workforce Solutions Coastal Bend – Staples Career Center\, 520 N Staples St\, Corpus Christi\, TX\, 78401\, United States
ATTACH;FMTTYPE=image/jpeg:https://www.workforcesolutionscb.org/wp-content/uploads/2023/06/All-Temps-062923XM21916.jpg
END:VEVENT
END:VCALENDAR