BEGIN:VCALENDAR
VERSION:2.0
PRODID:-//Workforce Solutions Coastal Bend - ECPv6.15.16//NONSGML v1.0//EN
CALSCALE:GREGORIAN
METHOD:PUBLISH
X-ORIGINAL-URL:https://www.workforcesolutionscb.org
X-WR-CALDESC:Events for Workforce Solutions Coastal Bend
REFRESH-INTERVAL;VALUE=DURATION:PT1H
X-Robots-Tag:noindex
X-PUBLISHED-TTL:PT1H
BEGIN:VTIMEZONE
TZID:America/Chicago
BEGIN:DAYLIGHT
TZOFFSETFROM:-0600
TZOFFSETTO:-0500
TZNAME:CDT
DTSTART:20220313T080000
END:DAYLIGHT
BEGIN:STANDARD
TZOFFSETFROM:-0500
TZOFFSETTO:-0600
TZNAME:CST
DTSTART:20221106T070000
END:STANDARD
BEGIN:DAYLIGHT
TZOFFSETFROM:-0600
TZOFFSETTO:-0500
TZNAME:CDT
DTSTART:20230312T080000
END:DAYLIGHT
BEGIN:STANDARD
TZOFFSETFROM:-0500
TZOFFSETTO:-0600
TZNAME:CST
DTSTART:20231105T070000
END:STANDARD
BEGIN:DAYLIGHT
TZOFFSETFROM:-0600
TZOFFSETTO:-0500
TZNAME:CDT
DTSTART:20240310T080000
END:DAYLIGHT
BEGIN:STANDARD
TZOFFSETFROM:-0500
TZOFFSETTO:-0600
TZNAME:CST
DTSTART:20241103T070000
END:STANDARD
END:VTIMEZONE
BEGIN:VEVENT
DTSTART;TZID=America/Chicago:20230517T090000
DTEND;TZID=America/Chicago:20230517T120000
DTSTAMP:20260423T204504
CREATED:20230503T144336Z
LAST-MODIFIED:20230508T205943Z
UID:20333-1684314000-1684324800@www.workforcesolutionscb.org
SUMMARY:Compass Connections Hiring Event
DESCRIPTION:About Compass Connections:\n\n\n\nCompass Connections has been impacting and meeting the needs of the community’s most vulnerable children and families through residential care\, community-based support\, foster care\, and adoption services. \n\n\n\nLeveraging more than a century of collective child welfare experience\, Compass Connections\, a Texas based non-profit organization\, is a national leader in connecting\, strengthening\, and transforming families from around the globe. \n\n\n\nEvent Date & Time\n\n\n\n\n\n\n\nEvent Location\n\n\n\nThis is an in-person Health Care hiring event located at: \n\n\n\n\n\nAbout This Event\n\n\n\nHiring For Multiple Positions \n\n\n\nEvent Registration\n\n\n\n\nRegister On-Site\n\n\n\nEnsure Your Resume is Up-To-Date\n\n\n\nLog into WorklnTexas.com to view Job Details\n\n\n\nBe prepared to Interview\n\n\n\n\nContact For More Information\n\n\n\nBusiness Solutions Unit (BSU) – Esperanza Vela @ 361-500-8944 \n\n\n\n\n\n\n\n\nClick image to download flier\n\n\n\n\n\nDownload Flier\n\n\n\nWorkInTexas
URL:https://www.workforcesolutionscb.org/event/compass-connections-hiring-event/
LOCATION:Workforce Solutions Coastal Bend – Kingsville Career Center\, 1814 Brahma Blvd.\, Kingsville\, TX\, 78363\, United States
ATTACH;FMTTYPE=image/png:https://www.workforcesolutionscb.org/wp-content/uploads/2023/05/CompassConnections.flyer-XM18643.png
END:VEVENT
BEGIN:VEVENT
DTSTART;TZID=America/Chicago:20230517T100000
DTEND;TZID=America/Chicago:20230517T150000
DTSTAMP:20260423T204504
CREATED:20230516T173913Z
LAST-MODIFIED:20230516T174040Z
UID:20637-1684317600-1684335600@www.workforcesolutionscb.org
SUMMARY:Corpus Christi State Supported Living Center Hiring Event
DESCRIPTION:Event Date & Time\n\n\n\n\n\n\n\nEvent Location\n\n\n\nThis is an in-person Health Care hiring event located at: \n\n\n\n\n\nAbout This Event\n\n\n\n\nClerk III-Accounting \n\n\n\nRN Shift Supervisor \n\n\n\nFood Service Worker I \n\n\n\nChaplain III \n\n\n\nLVN IIl \n\n\n\nLVN I \n\n\n\nDirect Support Prof II \n\n\n\nCustodian II \n\n\n\nNurse III/Nurse Mgr \n\n\n\nNurse II \n\n\n\nClerk I \n\n\n\nTraining Specialist I \n\n\n\nClinical Nutritionist  \n\n\n\nVehicle Driver II\n\n\n\n\nEvent Registration\n\n\n\n\nRegister On-Site\n\n\n\nEnsure Your Resume is Up-To-Date\n\n\n\nLog into WorklnTexas.com to view Job Details\n\n\n\nBe prepared to Interview\n\n\n\n\nContact For More Information\n\n\n\nBusiness Solutions Unit (BSU) – Esperanza Vela @ 361-500-8944 \n\n\n\n\n\n\n\n\nClick to Download Flier\n\n\n\n\n\nDownload Flier\n\n\n\nWorkInTexas
URL:https://www.workforcesolutionscb.org/event/corpus-christi-state-supported-living-center-hiring-event-2/
LOCATION:Workforce Solutions Coastal Bend – Staples Career Center\, 520 N Staples St\, Corpus Christi\, TX\, 78401\, United States
ATTACH;FMTTYPE=image/jpeg:https://www.workforcesolutionscb.org/wp-content/uploads/2023/05/HHSCCSSLhiringevent051720231XM19177.jpg
END:VEVENT
BEGIN:VEVENT
DTSTART;TZID=America/Chicago:20230518T090000
DTEND;TZID=America/Chicago:20230518T160000
DTSTAMP:20260423T204504
CREATED:20230515T173041Z
LAST-MODIFIED:20230516T212234Z
UID:20630-1684400400-1684425600@www.workforcesolutionscb.org
SUMMARY:Child Protective Services Conservatorship Worker Statewide Virtual Career Fair
DESCRIPTION:Event Date & Time\n\n\n\n\n\n\n\nEvent Location\n\n\n\nThis is a Virtual Career Fair @ the following URL: \n\n\n\nhttps://www.dfps.state.tx.us/Jobs/job_fairs.asp \n\n\n\nAbout Texas Department of Family and Protective Services\n\n\n\nWho we are\n\n\n\n\nWe are passionate\n\n\n\nWe are flexible\n\n\n\nWe are driven\n\n\n\nWe have a strong work ethic\n\n\n\nWe love the work we do\n\n\n\n\nWhat we do\n\n\n\n\nResponsible for a child’s welfarewhenever they are removed fromtheir home.\n\n\n\nWork closely with parents\, extendedfamily\, and legal parties to helpchildren find a permanent\, safe placeto live.\n\n\n\n\nWhat We Offer\n\n\n\n\n100% employer-paid healthcare\n\n\n\nHealth and wellness programs\n\n\n\nRetirement planning\n\n\n\nTuition reimbursement\n\n\n\nPromotional opportunities\n\n\n\nHoliday / annual / sick leave\n\n\n\nPaid classroom and field training\n\n\n\n\nEvent Registration\n\n\n\n\nRegister On-Site\n\n\n\nEnsure Your Resume is Up-To-Date\n\n\n\nLog into WorklnTexas.com to view Job Details\n\n\n\nBe prepared to Interview\n\n\n\n\nContact For More Information\n\n\n\nomero.luna@workforcesolutionscb.org or (361) 673-1698 \n\n\n\n\n\n\n\n\n\nClick to download flier\n\n\n\n\n\n\nPlease RSVP Here\n\n\n\nDownload Flier\n\n\n\nWorkInTexas
URL:https://www.workforcesolutionscb.org/event/cps-statewide-virtual-career-fair/
ATTACH;FMTTYPE=image/jpeg:https://www.workforcesolutionscb.org/wp-content/uploads/2023/05/CVS-career-event-May-18-202319008.jpg
END:VEVENT
BEGIN:VEVENT
DTSTART;TZID=America/Chicago:20230524T100000
DTEND;TZID=America/Chicago:20230524T140000
DTSTAMP:20260423T204504
CREATED:20230516T212748Z
LAST-MODIFIED:20230522T191808Z
UID:20647-1684922400-1684936800@www.workforcesolutionscb.org
SUMMARY:Texas Department of Family and Protective Services Hiring Event
DESCRIPTION:Event Date & Time\n\n\n\n\n\n\n\nEvent Location\n\n\n\nThis is an In-Person Job Fair at the following location: \n\n\n\n\n\nAbout Texas Department of Family and Protective Services\n\n\n\nWho we are\n\n\n\n\nWe are passionate\n\n\n\nWe are flexible\n\n\n\nWe are driven\n\n\n\nWe have a strong work ethic\n\n\n\nWe love the work we do\n\n\n\n\nWhat we do\n\n\n\n\nResponsible for a child’s welfarewhenever they are removed fromtheir home.\n\n\n\nWork closely with parents\, extendedfamily\, and legal parties to helpchildren find a permanent\, safe placeto live.\n\n\n\n\nWhat We Offer\n\n\n\n\n100% employer-paid healthcare\n\n\n\nHealth and wellness programs\n\n\n\nRetirement planning\n\n\n\nTuition reimbursement\n\n\n\nPromotional opportunities\n\n\n\nHoliday / annual / sick leave\n\n\n\nPaid classroom and field training\n\n\n\n\nEvent Registration\n\n\n\n\nRegister On-Site\n\n\n\nEnsure Your Resume is Up-To-Date\n\n\n\nLog into WorklnTexas.com to view Job Details\n\n\n\nBe prepared to Interview\n\n\n\n\nContact For More Information\n\n\n\n(361) 813-3124 \n\n\n\n\n\n\n\n\n\n\n\n\n\n\n\n\nDownload Flier\n\n\n\nWorkInTexas
URL:https://www.workforcesolutionscb.org/event/texas-department-of-family-and-protective-services-hiring-event/
LOCATION:Workforce Solutions Coastal Bend – Beeville Career Center\, 3800 Charco Rd\, Beeville\, Texas\, 78102\, United States
ATTACH;FMTTYPE=image/jpeg:https://www.workforcesolutionscb.org/wp-content/uploads/2023/05/DptFamilyProtectiveSvcs.flyer5_.24.23XM19170.jpg
END:VEVENT
BEGIN:VEVENT
DTSTART;TZID=America/Chicago:20230525T090000
DTEND;TZID=America/Chicago:20230525T120000
DTSTAMP:20260423T204504
CREATED:20230503T155113Z
LAST-MODIFIED:20230519T192702Z
UID:20358-1685005200-1685016000@www.workforcesolutionscb.org
SUMMARY:Coastal Bend In-Person Job Fair
DESCRIPTION:Event Date & Time\n\n\n\n\n\n\n\nEvent Location\n\n\n\nThis is an in-person Job Fair located at: \n\n\n\n\n\nAbout This Event\n\n\n\nMultiple Companies hiring for multiple positions: \n\n\n\n\nSterling Personnel\n\n\n\nAll Temps\n\n\n\nPeople Ready\n\n\n\nLabor Finders\n\n\n\nSnelling Personnel\n\n\n\nUnique Employment Services\n\n\n\n\nEvent Registration\n\n\n\n\nRegister On-Site\n\n\n\nEnsure Your Resume is Up-To-Date\n\n\n\nLog into WorklnTexas.com to view Job Details\n\n\n\nBe prepared to Interview\n\n\n\n\nContact For More Information\n\n\n\nomero.luna@workforcesolutionscb.org or (361) 673-1698 \n\n\n\n\n\n\n\n\n\nClick Image To Download Flier\n\n\n\n\n\n\nDownload Flier\n\n\n\nWorkInTexas
URL:https://www.workforcesolutionscb.org/event/coastal-bend-in-person-job-fair/
LOCATION:Workforce Solutions Coastal Bend – Staples Career Center\, 520 N Staples St\, Corpus Christi\, TX\, 78401\, United States
ATTACH;FMTTYPE=application/pdf:https://www.workforcesolutionscb.org/wp-content/uploads/2023/05/Coastal-Bend-Job-Fair-05252023XM18616.pdf
END:VEVENT
END:VCALENDAR